BEGIN:VCALENDAR
VERSION:2.0
PRODID:-//NK Tonpraten - ECPv6.15.11//NONSGML v1.0//EN
CALSCALE:GREGORIAN
METHOD:PUBLISH
X-WR-CALNAME:NK Tonpraten
X-ORIGINAL-URL:https://nktonpraten.nl
X-WR-CALDESC:Evenementen voor NK Tonpraten
REFRESH-INTERVAL;VALUE=DURATION:PT1H
X-Robots-Tag:noindex
X-PUBLISHED-TTL:PT1H
BEGIN:VTIMEZONE
TZID:UTC
BEGIN:STANDARD
TZOFFSETFROM:+0000
TZOFFSETTO:+0000
TZNAME:UTC
DTSTART:20260101T000000
END:STANDARD
END:VTIMEZONE
BEGIN:VEVENT
DTSTART;TZID=UTC:20270226T194500
DTEND;TZID=UTC:20270226T194500
DTSTAMP:20260421T082958
CREATED:20251027T121742Z
LAST-MODIFIED:20260323T121653Z
UID:1419-1803671100-1803671100@nktonpraten.nl
SUMMARY:NK Tonpraten 2027
DESCRIPTION:
URL:https://nktonpraten.nl/agenda/nk-tonpraten/
CATEGORIES:DJ
END:VEVENT
BEGIN:VEVENT
DTSTART;TZID=UTC:20270227T194500
DTEND;TZID=UTC:20270227T194500
DTSTAMP:20260421T082958
CREATED:20251027T121948Z
LAST-MODIFIED:20260323T121730Z
UID:1423-1803757500-1803757500@nktonpraten.nl
SUMMARY:Buutgala 1
DESCRIPTION:
URL:https://nktonpraten.nl/agenda/buutgala-1/
CATEGORIES:DJ
END:VEVENT
BEGIN:VEVENT
DTSTART;TZID=UTC:20270305T194500
DTEND;TZID=UTC:20270305T194500
DTSTAMP:20260421T082958
CREATED:20251027T122102Z
LAST-MODIFIED:20260323T121816Z
UID:1425-1804275900-1804275900@nktonpraten.nl
SUMMARY:Buutgala 2
DESCRIPTION:
URL:https://nktonpraten.nl/agenda/buutgala-2/
CATEGORIES:DJ
END:VEVENT
BEGIN:VEVENT
DTSTART;TZID=UTC:20270306T194500
DTEND;TZID=UTC:20270306T194500
DTSTAMP:20260421T082958
CREATED:20251027T122136Z
LAST-MODIFIED:20260323T121844Z
UID:1427-1804362300-1804362300@nktonpraten.nl
SUMMARY:Buutgala 3
DESCRIPTION:
URL:https://nktonpraten.nl/agenda/buutgala-3/
CATEGORIES:DJ
END:VEVENT
END:VCALENDAR